BEGIN:VCALENDAR
VERSION:2.0
PRODID:-//Anahat – Songs of the Heart &amp; Sacred Journeys - ECPv6.15.20//NONSGML v1.0//EN
CALSCALE:GREGORIAN
METHOD:PUBLISH
X-WR-CALNAME:Anahat – Songs of the Heart &amp; Sacred Journeys
X-ORIGINAL-URL:https://anahat.de
X-WR-CALDESC:Veranstaltungen für Anahat – Songs of the Heart &amp; Sacred Journeys
REFRESH-INTERVAL;VALUE=DURATION:PT1H
X-Robots-Tag:noindex
X-PUBLISHED-TTL:PT1H
BEGIN:VTIMEZONE
TZID:Europe/Berlin
BEGIN:DAYLIGHT
TZOFFSETFROM:+0100
TZOFFSETTO:+0200
TZNAME:CEST
DTSTART:20250330T010000
END:DAYLIGHT
BEGIN:STANDARD
TZOFFSETFROM:+0200
TZOFFSETTO:+0100
TZNAME:CET
DTSTART:20251026T010000
END:STANDARD
BEGIN:DAYLIGHT
TZOFFSETFROM:+0100
TZOFFSETTO:+0200
TZNAME:CEST
DTSTART:20260329T010000
END:DAYLIGHT
BEGIN:STANDARD
TZOFFSETFROM:+0200
TZOFFSETTO:+0100
TZNAME:CET
DTSTART:20261025T010000
END:STANDARD
BEGIN:DAYLIGHT
TZOFFSETFROM:+0100
TZOFFSETTO:+0200
TZNAME:CEST
DTSTART:20270328T010000
END:DAYLIGHT
BEGIN:STANDARD
TZOFFSETFROM:+0200
TZOFFSETTO:+0100
TZNAME:CET
DTSTART:20271031T010000
END:STANDARD
END:VTIMEZONE
BEGIN:VEVENT
DTSTART;TZID=Europe/Berlin:20260424T193000
DTEND;TZID=Europe/Berlin:20260424T210000
DTSTAMP:20260420T102004
CREATED:20260412T212210Z
LAST-MODIFIED:20260412T212447Z
UID:1088401-1777059000-1777064400@anahat.de
SUMMARY:Kirtan in München 24. April 26
DESCRIPTION:Wir laden dich ein zu einem Abend mit Mantras und spirituellen Liedern. In der Schwingung von Klang\, Stimme und Stille entsteht ein Raum\, in dem du ankommen\, loslassen und dich verbunden fühlen darfst – mit dir selbst und anderen. Komm wie du bist. Du musst nichts können\, nichts leisten – nur da sein. \nEinmal im Monat kommen wir zusammen\, um mit offenen Herzen zu singen und die Kraft der Gemeinschaft zu spüren. Wir freuen uns\, wenn du dabei bist und diesen Raum mit uns lebendig hältst. \nEnergieausgleich nach Selbsteinschätzung: 15-25 € Ort: Birkenau 25\, 81543 München (Untergiesing)  \nBitte bring eine Sitzunterlage\, ein Kissen\, eine Decke oder alles mit\, was du brauchst\, um es dir gemütlich zu machen. \nWir freuen uns\, wenn du dich hier anmeldest\, damit wir wissen dass du dabei bist\, aber du darfst auch gerne einfach spontan kommen. \n\n			\n				zur Anmeldung
URL:https://anahat.de/event/kirtan-in-muenchen-24-april-26/
LOCATION:München Untergiesing\, Birkenau 25\, München\, 81543\, Germany
ATTACH;FMTTYPE=image/jpeg:https://anahat.de/wp-content/uploads/2026/04/Singkreis24.4.jpg
ORGANIZER;CN="Anahat":MAILTO:info@anahat.de
END:VEVENT
BEGIN:VEVENT
DTSTART;TZID=Europe/Berlin:20260508T200000
DTEND;TZID=Europe/Berlin:20260508T213000
DTSTAMP:20260420T102004
CREATED:20260412T204827Z
LAST-MODIFIED:20260412T204827Z
UID:1088397-1778270400-1778275800@anahat.de
SUMMARY:Mantra Konzert in Schöngeising (bei München)
DESCRIPTION:Zum ersten Mal dürfen wir bei Christine Kaliner in Schöngeising einen Raum aus Klang und Stille öffnen.\nGemeinsam singen wir Mantras\, lassen uns tragen\, erinnern uns – an das\, was still in uns leuchtet. \nEin Abend zum Ankommen\, Loslassen und Eintauchen ins Herz. \nFreitag\, 08.05.2026\n20:00 – 21:30 Uhr \nAnmeldung: info@kaliner-yoga.de \nWir freuen uns\, diesen besonderen Moment mit euch zu teilen.
URL:https://anahat.de/event/mantra-konzert-in-schoengeising-bei-muenchen/
LOCATION:YogaRaum Christine Kailner\, Scherrerstraße 2a\, Schöngeising\, 82296
ATTACH;FMTTYPE=image/jpeg:https://anahat.de/wp-content/uploads/2026/04/Konzert-Tine-26.jpg
END:VEVENT
BEGIN:VEVENT
DTSTART;VALUE=DATE:20260718
DTEND;VALUE=DATE:20260719
DTSTAMP:20260420T102004
CREATED:20260215T170455Z
LAST-MODIFIED:20260406T192913Z
UID:1088252-1784332800-1784419199@anahat.de
SUMMARY:Just Be! Yogasommerfest 2026
DESCRIPTION:Verbunden\, lebendig und voller Herz \nTauche ein in einen besonderen Sommertag voller Achtsamkeit\, Gemeinschaft und lebendiger Präsenz. JUST BE 2026 lädt dich ein\, aus dem Tun ins Sein zu kommen – getragen von Musik\, Bewegung\, Natur und echter Verbindung. \nDich erwartet ein vielfältiger Tagesflow: von berührendem Morgenyoga mit Live-Musik über inspirierende Begegnungsräume wie Frauen- und Männerkreise bis hin zu Tanz\, Klang\, Breathwalk und einem herzöffnenden Mantra-Konzert am Abend. Ein Tag\, der dich nährt\, bewegt und erinnert\, was es heißt\, einfach zu sein.\n			\n				\n				\n				\n				\n				Teacher & Artists\n			\n				\n				\n				\n				\n				Elisabeth Lorbeer\, Kathrin Millinger\, Deliah & Michael Guggenberger\, Roland\, Bettina\, Petra\, Janette Fiozzi\, Charan Kamal\, Renate Heiss\, Anahat (Michaela Atma Simrit & Mauricio Karambir) … und weitere wundervolle Spaceholder \n			\n				\n				\n				\n				\n				Tagesablauf\n			\n				\n				\n				\n				\n				07:00 – 08:15Morgenyoga mit Live-MusikEin kraftvoller und zugleich sanfter Start in den Tag – getragen von Klang und Präsenz \n08:15 – 09:00Frühstück mit Tee & Yogi-Porridge (inklusive) \n09:00 – 10:00Begrüßung & Meditation mit Live-Musik + Kreistanz \n10:00 – 11:00Vinyasa YogaParallel: Dance & Meditate \n11:15 – 12:00Yoba (Yoga & Ballet)Parallel:  Tai Chi \n12:00 – 13:30Frauenkreis & Männerkreis – Räume für echten Austausch und Verbindung \n13:30 – 14:00Picknick (bitte eigene Verpflegung mitbringen) \n14:00 – 15:00Gong-Entspannung & Klangbad \n15:00 – 16:00Breathwalk in der NaturParallel: Faszien Yoga \n16:30 – 17:30Kundalini Yoga & AtemmeditationParallel: Qigong \n17:30 – 18:30Abend-Brotzeit (eigene Verpflegung) \n18:30 – 19:30Mantra-Konzert mit AnahatGemeinsam singen\, schwingen und das Herz öffnen \n19:30 – 21:00Wave Dance & AbschlusskreisBewegung als Meditation – frei\, lebendig\, verbunden \n21:00 – 22:00Feuer & SocialGemeinsam ausklingen lassen am Feuer \n			\n				\n				\n				\n				\n				Manchmal kommt es anders als geplant – kleine Änderungen im Programm sind möglich\n			\n				Hier zur Anmeldung\n			\n				\n				\n				\n				\n				Was dich erwartet\n			\n				\n				\n				\n				\n				Ein liebevoll gestalteter Raum für dich – mit: \n-Yoga in verschiedenen Stilen\n-Meditation & Atemarbeit\n-Frauen- und Männerkreise\n-Tanz & Bewegung\n-Klangbad & Live-Musik\n-Naturerfahrung (Breathwalk)\n-Mantra-Konzert\n-Gemeinschaft & Begegnung\n-Feuerkreis am Abend\n-Frühstück mit Yogi-Porridge\, Wasser & Tee inklusive\n			\n				Hier zur Anmeldung\n			\n				\n				\n				\n				\n				Wichtige Hinweise\n			\n				\n				\n				\n				\n				-Yogamatten\, Kissen und Decken bitte selbst mitbringen\n-Wasserflasche & eigene Verpflegung für den Tag\n-Eigenes Geschirr (Tasse\, Besteck\, Teller)\n-Wasser & Tee stehen zur Verfügung\n-Bequeme Kleidung & Sonnenschutz empfohlen (es gibt auch Schattenplätze) \nDies ist eine Schönwetter-Veranstaltung.\nBei wetterbedingter Absage wird der volle Betrag rückerstattet.\n			\n				\n				\n				\n				\n				Energieausgleich\n			\n				\n				\n				\n				\n				Halbtageskarte ab 13:30 Uhr:50 € (Frühbucher bis 31.05.26: 40 €) \nGanztages-Ticket:70 € (Frühbucher bis 31.05.26)85 € (regulärer Preis ab 01.06.26)100 € (Tageskasse) \nÜbernachtung:25 € für Camper oder Übernachtung im YPZ (pro Nacht) \nDu kannst flexibel vor oder nach dem Fest übernachten\, um entspannt anzukommen oder den Tag in Ruhe ausklingen zu lassen und die besondere Atmosphäre noch länger zu genießen. \nDie Plätze sind begrenzt – wir empfehlen dir\, den Frühbucherpreis zu nutzen und dir rechtzeitig deinen Platz zu sichern. \n			\n				Hier zur Anmeldung
URL:https://anahat.de/event/just-be-yogasommerfest-2026/
LOCATION:Yoga- und Psychotherapie Zentrum\, Römerstraße 25\, 84347 Pfarrkirchen
ATTACH;FMTTYPE=image/jpeg:https://anahat.de/wp-content/uploads/2026/02/Just-Be-2026.jpg
ORGANIZER;CN="Anahat":MAILTO:info@anahat.de
END:VEVENT
BEGIN:VEVENT
DTSTART;TZID=Europe/Berlin:20261026T150000
DTEND;TZID=Europe/Berlin:20261031T130000
DTSTAMP:20260420T102004
CREATED:20260106T180301Z
LAST-MODIFIED:20260220T113623Z
UID:1088067-1793026800-1793451600@anahat.de
SUMMARY:Andalusien Retreat 2026
DESCRIPTION:Kundalini Yoga & Mantra Retreat (6 Tage Spanien- Sierra Nevada)\n26. – 31. Oktober 2026 | Ananda Forest\, Órgiva\, Andalusien \nErlebe eine transformative Auszeit im Herzen der Alpujarras! \nTauche ein in eine Zeit des Innehaltens\, des Auftankens und der inneren Rückkehr zu dir selbst.Unser Retreat lädt dich ein\, den Alltag loszulassen und dich inmitten der stillen\, ursprünglichen Natur Andalusiens neu zu verbinden – mit deinem Körper\, deinem Atem und deinem Herzen. \n			\n			\n				\n				\n				\n				\n			\n				\n				\n				\n				\n				\n				\n				\n				\n				\n				\n				\n			\n			\n				\n				\n				\n				\n				\n				\n				\n				\n				\n				Tägliches Kundalini Yoga\, Meditation und Mantra-Singen unterstützen dich dabei\, in deine Kraft zu kommen\, dein Herz zu öffnen und innere Balance zu finden. In dieser heilsamen Atmosphäre entsteht Raum für Stille\, Lebendigkeit und echte Begegnung – mit dir selbst und anderen.Untergebracht bist du in gemütlichen\, naturverbundenen Unterkünften\, die sich harmonisch in die Landschaft einfügen und dich einladen\, die Ruhe und Energie der Umgebung ganz bewusst zu spüren. \nWir freuen uns auf dich – und auf gemeinsame Tage voller Tiefe\, Herz und Klang. \n			\n			\n				\n				\n				\n				\n			\n				\n				\n				\n				\n				\n				\n				Hier zur Anmeldung\n			\n			\n				\n				\n				\n				\n			\n				\n				\n				\n				\n				\n				\n				\n				\n				\n				\n				Retreat-Details\nZeitraum: 26. Oktober 2026 (ab 15 Uhr) bis 31. Oktober 2026 (bis 13 Uhr) \nOrt: Ananda Forest\, Órgiva\, AndalusienUnterkunft: Doppelbelegung in schönen Holzhütten oder Glamping-RundzeltenTeilnehmerzahl: Maximal 10 Personen (mindestens 4 Teilnehmer)Verpflegung: Vollverpflegung (vegetarisch/vegan\, hauptsächlich bio/regional) \nTägliche Aktivitäten:Kundalini Yoga zur Aktivierung von Körper und EnergieMeditation: Verschiedene MeditationstechnikenMantra-Singen: Gemeinsames Singen von Mantras verschiedener TraditionenWanderungen: Kleine Touren in der wundervollen Natur AndalusiensStille in der Natur: Phasen der Stille und des Alleinseins zur Reflexion \n			\n			\n				\n				\n				\n				\n			\n				\n				\n				\n				\n				\n				\n				\n				\n				\n				\n				\n			\n			\n				\n				\n				\n				\n				\n				\n				\n				\n				\n				\n			\n			\n				\n				\n				\n				\n				\n				\n				\n				\n				\n				\n			\n			\n				\n				\n				\n				\n			\n				\n				\n				\n				\n				\n				\n				\n				\n				\n				\n				Preise\nUltra-Frühbucher: 740 € (bei Anmeldung bis 28.02.2026)Frühbucher: 790 € (bei Anmeldung bis 31.05.2026)Normalpreis: 890 € \nIm Preis inbegriffen sind das gesamte Retreat-Programm\, die Vollverpflegung\, die Unterkunft sowie Bettwäsche und Handtücher. Nicht enthalten sind der Flug sowie der Shuttle-Service. \nSichere dir deinen Platz und profitiere von den Frühbucherpreisen! \n			\n			\n				\n				\n				\n				\n			\n				\n				\n				\n				\n				\n				\n				Hier zur Anmeldung\n			\n			\n				\n				\n				\n				\n			\n				\n				\n				\n				\n				\n				\n				\n				\n				\n				\n				\n			\n			\n				\n				\n				\n				\n				\n				\n				\n				\n				\n				\n			\n			\n				\n				\n				\n				\n			\n				\n				\n				\n				\n				\n				\n				\n				\n				\n				\n				Zahlung und Stornobedingungen\nAnzahlung: 350 € bei Anmeldung (Restbetrag bis spätestens 01.09.2026) \nStornierung:Bis 30.06.2026: Volle Rückerstattung der Anzahlung01.07. bis  31.08.2026: Stornogebühr in Höhe der Anzahlung wird einbehaltenAb 01.09.2026: Gesamtbetrag wird fälligDu kannst bei Rücktritt jederzeit einen Ersatzteilnehmer stellen. Wir empfehlen den Abschluss einer Reiserücktrittsversicherung. \nAnreise\nFlug: Nicht im Preis inbegriffen. Die Flughäfen Málaga oder Granada werden empfohlen.Weiterreise: Eine Busverbindung vom Flughafen nach Orgiva ist möglich.Shuttle-Service: Ein Shuttle vom Flughafen kann gegen Aufpreis organisiert werden.Genauere Informationen erhältst du bei der Anmeldung. \nAnmeldung: Frühzeitige Anmeldung empfohlen\, da Plätze begrenzt. \n			\n			\n				\n				\n				\n				\n			\n				\n				\n				\n				\n				\n				\n				Hier zur Anmeldung\n			\n			\n				\n				\n				\n				\n			\n				\n				\n				\n				\n				\n				\n				\n				\n				\n				\n				\n			\n			\n				\n				\n				\n				\n				\n				\n				\n				\n				\n				\n			\n			\n				\n				\n				\n				\n			\n				\n				\n				\n				\n				\n				\n				\n				\n				\n				\n				Retreat-Tage im Überblick\nTag 1: Montag\, 26. Oktober 2026●  15:00 Ankommen & erstes Eintauchen●  16:00 Begrüßung und Kennenlernen● 18:30 gemeinsames Abendessen● 20:00 Sanfte Mantra-Abendmeditation mit Live-Musik \nTag 2–5: Dienstag\, 27. Oktober – Freitag\, 30. Oktober 2026● 06:30 Morgenritual (Japji)● 07:00 Kundalini Yoga Sadhana (Yoga und Mantra-Meditation)● 09:00 gemeinsames Frühstück● 10:30 Vormittags-Session: täglicher Sharing Circle mit Tagesimpuls\, kurze Pranayama-Einheiten\, wechselnde Elemente aus Achtsamkeitsübungen\, Naturerfahrung\, Meditation\, freiem Tanzen\, Entspannung oder leichten Wanderungen● 13:30 gemeinsames Mittagessen● 14:30 Siesta – freie Zeit zum Ausruhen\, Austauschen\, Natur erkunden\, Journaling\, Seele baumeln lassen● 16:30 Nachmittags-Session: täglich sanfte Yogaeinheit aus dem Kundalini Yoga\, wechselnde Elemente aus Mantra-Meditation\, Naturritualen\, Stille\, meditativer Bewegung\, der kurzen Ausflügen● 18:30 gemeinsames Abendessen● 20:00-21:00 Abendlicher Mantra-Singkreis mit Live-Musik \nTag 6: Samstag\, 31. Oktober 2026● 06:30 Morgenritual (Japji)● 07:00 Kundalini Yoga Sadhana (Yoga und Mantra-Meditation)● 09:00 gemeinsames Frühstück● 10:30 Abschluss-Session: Sharing Circle und Integration der Erfahrungen● 12:00 gemeinsames Mittagessen● 13:00 Verabschiedung und Abreise \nHinweis zum Programm:Das Tagesprogramm ist flexibel und kann bei Bedarf an die Bedürfnisse der Gruppe oder äußere Umstände (z. B. Wetter) angepasst werden. Änderungen werden rechtzeitig kommuniziert\, um dir das bestmögliche Erlebnis zu bieten. \nWeitere Infos:Für dein Wohlbefinden ist bestens gesorgt! Yoga-Matten und Sitzkissen\, sowie Bettwäsche und Handtücher stehen dir vor Ort zur Verfügung. \nHast du Fragen? Kontaktiere uns!Wenn du Fragen hast\, zögere nicht\, uns zu kontaktieren! Wir stehen dir gerne zur Verfügung\, um alle deine Fragen zu beantworten. Du kannst uns jederzeit per E-Mail unter info@anahat.de erreichen.Wir beantworten deine Anfrage entweder per E-Mail oder rufen dich zurück\, falls du lieber telefonisch sprechen möchtest. Es ist absolut kein Problem\, Fragen zu stellen – wir sind für dich da!
URL:https://anahat.de/event/andalusien-retreat-2026/
LOCATION:Ananda Forest\, C. Fuente Mariana\, 16\, 18400 Órgiva\, Granada\, Spanien
ATTACH;FMTTYPE=image/jpeg:https://anahat.de/wp-content/uploads/2026/01/1.jpg
ORGANIZER;CN="Anahat":MAILTO:info@anahat.de
END:VEVENT
BEGIN:VEVENT
DTSTART;TZID=Europe/Berlin:20261213T173000
DTEND;TZID=Europe/Berlin:20261213T210000
DTSTAMP:20260420T102004
CREATED:20260312T100311Z
LAST-MODIFIED:20260312T101244Z
UID:1088317-1797183000-1797195600@anahat.de
SUMMARY:Mantra Konzert im Yogaraum Rosenheim & Workshop "Be the Light" 2026
DESCRIPTION:Mantra Konzertabend (Live) mit dem Duo Anahat – Atma Simrit & Karambir im YogaRaum Rosenheim \nDiesmal an einem ganz besonderen Tag: dem dritten Advent – ein Abend\, der Licht\, Klang und Stille in sich trägt. \nBevor das Konzert beginnt\, erwartet euch ein Kundalini Yoga Workshop zum Thema „Be the Light“ mit Brigitte Jai Inder – offen für alle Levels. \nWir kommen zurück in den YogaRaum Rosenheim – und freuen uns sehr darauf\, diesen Adventabend mit euch zu teilen. Mit unseren Stimmen und Klängen möchten wir euch auf eine Reise nach innen einladen – tief ins Herz\, nah ans Wahre Selbst. Wir spielen Mantras aus der Tradition des Kundalini Yoga und aus dem Sanskrit\, mit eigenen Melodien\, begleitet von Gitarre und indischem Harmonium – von zart und meditativ bis hin zu lebendig und energievoll. \n„Wir möchten die Menschen dazu inspirieren\, sich den Schwingungen der Mantras ganz hinzugeben. So werden die Heilkraft der Mantras und die Wirkung des Klangstroms am eigenen Körper erfahrbar. Im gemeinsamen Singen der uralten Mantras tauchen wir durch die äußeren Schichten unseres Seins hindurch\, kommen wieder in Kontakt mit unserem Herzen und sind unserem Wahren Selbst ganz nah.“ \nWas gibt es Schöneres in der Adventszeit\, als gemeinsam innezuhalten\, zu singen und das Licht in sich zu spüren? \n\nProgramm: \nWorkshop „Be the Light“ mit Brigitte Jai Inder 17:30 – 19:00 Uhr \nKonzert mit Anahat 19:30 – 21:00 Uhr \nPreise: Beide Events zusammen: 60 € (Abendkasse) / 55 € (Vorverkauf) Einzelbuchung: 30 € \n\nWahe Guru Atma Simrit & Karambir \n			\n				Anmeldung hier\n			\n				\n				\n				\n				\n				Wahe Guru \nAnahat & Brigitte Jai Inder
URL:https://anahat.de/event/mantra-konzert-im-yogaraum-rosenheim-workshop-be-the-light-2026/
LOCATION:Yogaraum Rosenheim\, Klepperstraße 19 83026 Rosenheim
ATTACH;FMTTYPE=image/jpeg:https://anahat.de/wp-content/uploads/2026/03/Rosenheim26.jpg
ORGANIZER;CN="Yogaraum Rosenheim":MAILTO:info@yogaraum-rosenheim.de
END:VEVENT
END:VCALENDAR